BEGIN:VCALENDAR
PRODID:-//eluceo/ical//2.0/EN
VERSION:2.0
CALSCALE:GREGORIAN
BEGIN:VEVENT
UID:3e37dabf335e7af3f46aaebf7f6793b6
DTSTAMP:20260421T085839Z
SUMMARY:Yeni Dalga: Kuvayi Milliye Destanı
DESCRIPTION:"Dörtnala gelip Uzak Asya'dan Akdeniz'e bir kısrak başı gib
 i uzanan bu memleket bizim."\nNâzım Hikmet'in dev eseri\, Kurtuluş Sava
 şı'nın büyük destanı\; Ali Berkt...
DTSTART:20160518
END:VEVENT
END:VCALENDAR
